BEGIN:VCALENDAR
VERSION:2.0
PRODID:icalendar-ruby
CALSCALE:GREGORIAN
METHOD:PUBLISH
BEGIN:VEVENT
DTSTAMP:20260420T063533Z
UID:6-1040075@fellowshipbaptist186.tithelysetup5.com
DTSTART:20261021T233000Z
DTEND:20261022T000000Z
CLASS:PUBLIC
CREATED:20260419T230550
DESCRIPTION:Members get together for a time of bible study and prayer by Co
 nference Call on Wednesdays at 7:30pm.
LAST-MODIFIED:20260419T230550
LOCATION:Conference Call
SUMMARY:Bible Study/ Prayer Meeting
URL;VALUE=URI:https://www.coneyfbc.com/events/bible-study-prayer-meeting/20
 26-10-21
ATTACH;FILENAME=FBC-Bible-Pen-Note-pic.jpg;FMTTYPE=image/jpeg:https://dq5pw
 pg1q8ru0.cloudfront.net/2023/04/26/16/06/02/f8e145f3-e6d1-4ee3-9c4b-65cf34
 35e897/FBC-Bible-Pen-Note-pic.jpg
END:VEVENT
END:VCALENDAR
